Workbook

Sheet 教师及实验
A1: 苏州大学2019年应聘教师(实验技术)高级职务人员(除教学为主型外)教学情况一览表
A2: 序号 | B2: 单位 | C2: 工号 | D2: 姓名 | E2: 应聘职务 | F2: 现职务任职时间 | G2: 博士学位取得时间 | H2: 每学年全日制本科生主干课程教学 | J2: 在省级以上刊物独立或作为第一作者发表教学研究论文篇数 | K2: 编著、主编（第一副主编）出版本科生用教材本数 | M2: 艺术类其他通用教材 | O2: 国家精品课程、国家双语示范课程、国家级特色专业建设点、国家示范实验教学中心建设点、国家级人才培养试验区、国家级精品教材建设和国家优秀教学团队等的主要成员（均取前五）；省级精品课程（含双语）、省级品牌特色专业、省级示范实验教学中心建设点、省级人才培养试验区、省级精品教材建设、省级优秀教学团队等的主要成员（均取前三） | P2: 参加国家级教改项目（前三），或省级教改项目（前二），或主持校级教改项目，以及取得与该项目密切相关的教改成果（论文、获奖等） | Q2: 获国家级教学成果奖，或获省部级教学成果奖特等、一等、二等奖（均取前五） | R2: 获省级以上多媒体课件竞赛二等奖以上（前二） | S2: 获校级以上教学竞赛、专业竞赛二等奖以上，或获校级教学奖（个人奖） | T2: 指导本科生毕业设计（论文）或硕士研究生毕业论文获省级以上优秀论文 | U2: 指导学生获得省级以上学科竞赛二等奖以上奖项 | V2: 独立指导或第一指导大学生参加国家级、省级和校级创新实验计划、莙政研修计划，并取得明显成果，成果形式为：指导的本科生为第一作者在省级以上刊物发表论文，或获得国家发明专利或实用新型专利 | W2: 备注
H3: 课程门数 | I3: 平均课时数 | M3: 合著
K4: 本人编写15万字以上 | L4: 本人编写10万字以上 | M4: 总数 | N4: 其中本人为第一作者
A5: 1 | B5: 社会学院 | C5: 000055 | D5: 王芹 | E5: 教授 | F5: 40391 | G5: 39965 | J5: =_xlfn.IFNA(VLOOKUP(C5,[1]教师及实验!$C$5:$P$330,8,FALSE),"") | K5: =_xlfn.IFNA(VLOOKUP(C5,[1]教师及实验!$C$5:$P$330,9,FALSE),"") | L5: =_xlfn.IFNA(VLOOKUP(C5,[1]教师及实验!$C$5:$P$330,10,FALSE),"") | M5: =_xlfn.IFNA(VLOOKUP(C5,[1]教师及实验!$C$5:$P$330,11,FALSE),"") | N5: =_xlfn.IFNA(VLOOKUP(C5,[1]教师及实验!$C$5:$P$330,12,FALSE),"") | O5: =_xlfn.IFNA(VLOOKUP(C5,[1]教师及实验!$C$5:$P$330,13,FALSE),"") | P5: =_xlfn.IFNA(VLOOKUP(C5,[1]教师及实验!$C$5:$P$330,14,FALSE),"")
A6: 2 | B6: 社会学院 | C6: 11D058 | D6: 徐芳 | E6: 教授 | F6: 41821 | G6: 40695 | H6: 5 | I6: 468 | J6: =_xlfn.IFNA(VLOOKUP(C6,[1]教师及实验!$C$5:$P$330,8,FALSE),"") -> 1 | K6: =_xlfn.IFNA(VLOOKUP(C6,[1]教师及实验!$C$5:$P$330,9,FALSE),"") -> 0 | L6: =_xlfn.IFNA(VLOOKUP(C6,[1]教师及实验!$C$5:$P$330,10,FALSE),"") -> 0 | M6: =_xlfn.IFNA(VLOOKUP(C6,[1]教师及实验!$C$5:$P$330,11,FALSE),"") -> 0 | N6: =_xlfn.IFNA(VLOOKUP(C6,[1]教师及实验!$C$5:$P$330,12,FALSE),"") -> 0 | O6: =_xlfn.IFNA(VLOOKUP(C6,[1]教师及实验!$C$5:$P$330,13,FALSE),"") -> 0 | P6: =_xlfn.IFNA(VLOOKUP(C6,[1]教师及实验!$C$5:$P$330,14,FALSE),"") -> 1校通识课程项目排一 | V6: 1
A7: 3 | B7: 社会学院 | C7: 000026 | D7: 马德峰 | E7: 教授 | F7: 39387 | G7: 39600 | H7: 4 | I7: 200 | J7: =_xlfn.IFNA(VLOOKUP(C7,[1]教师及实验!$C$5:$P$330,8,FALSE),"") -> 2 | K7: =_xlfn.IFNA(VLOOKUP(C7,[1]教师及实验!$C$5:$P$330,9,FALSE),"") -> 0 | L7: =_xlfn.IFNA(VLOOKUP(C7,[1]教师及实验!$C$5:$P$330,10,FALSE),"") -> 0 | M7: =_xlfn.IFNA(VLOOKUP(C7,[1]教师及实验!$C$5:$P$330,11,FALSE),"") -> 0 | N7: =_xlfn.IFNA(VLOOKUP(C7,[1]教师及实验!$C$5:$P$330,12,FALSE),"") -> 0 | O7: =_xlfn.IFNA(VLOOKUP(C7,[1]教师及实验!$C$5:$P$330,13,FALSE),"") -> 0 | P7: =_xlfn.IFNA(VLOOKUP(C7,[1]教师及实验!$C$5:$P$330,14,FALSE),"") -> 1主持校级教改且有成果 | S7: 校级教学先进个人1项 | U7: 指导学生获得全国挑战杯二等奖1项（排2）；江苏省级挑战杯特等奖1项（排2） | V7: 指导省级创新实验计划1项（排1）；指导莙政研修计划1项（排1）；指导校级大创项目2项（排1）
A8: 4 | B8: 社会学院 | C8: 19N012 | D8: 张传宇 | E8: 副教授 | G8: 41183 | J8: =_xlfn.IFNA(VLOOKUP(C8,[1]教师及实验!$C$5:$P$330,8,FALSE),"") -> 0 | K8: =_xlfn.IFNA(VLOOKUP(C8,[1]教师及实验!$C$5:$P$330,9,FALSE),"") -> 0 | L8: =_xlfn.IFNA(VLOOKUP(C8,[1]教师及实验!$C$5:$P$330,10,FALSE),"") -> 0 | M8: =_xlfn.IFNA(VLOOKUP(C8,[1]教师及实验!$C$5:$P$330,11,FALSE),"") -> 0 | N8: =_xlfn.IFNA(VLOOKUP(C8,[1]教师及实验!$C$5:$P$330,12,FALSE),"") -> 0 | O8: =_xlfn.IFNA(VLOOKUP(C8,[1]教师及实验!$C$5:$P$330,13,FALSE),"") -> 0 | P8: =_xlfn.IFNA(VLOOKUP(C8,[1]教师及实验!$C$5:$P$330,14,FALSE),"") -> 0
A9: 5 | B9: 社会学院 | C9: 10D041 | D9: 李雅 | E9: 副教授 | G9: 40360 | H9: 6 | I9: 391 | J9: =_xlfn.IFNA(VLOOKUP(C9,[1]教师及实验!$C$5:$P$330,8,FALSE),"") -> 2 | K9: =_xlfn.IFNA(VLOOKUP(C9,[1]教师及实验!$C$5:$P$330,9,FALSE),"") -> 0 | L9: =_xlfn.IFNA(VLOOKUP(C9,[1]教师及实验!$C$5:$P$330,10,FALSE),"") -> 0 | M9: =_xlfn.IFNA(VLOOKUP(C9,[1]教师及实验!$C$5:$P$330,11,FALSE),"") -> 0 | N9: =_xlfn.IFNA(VLOOKUP(C9,[1]教师及实验!$C$5:$P$330,12,FALSE),"") -> 0 | O9: =_xlfn.IFNA(VLOOKUP(C9,[1]教师及实验!$C$5:$P$330,13,FALSE),"") -> 0 | P9: =_xlfn.IFNA(VLOOKUP(C9,[1]教师及实验!$C$5:$P$330,14,FALSE),"") -> 1校通识课程项目排一 | S9: 0 | V9: 指导江苏省高等学校大学生创新创业训练计划重点项目“构建现代公共文化服务体系背景下社会力量参与基层图书馆服务效果研究”，发表论文《“图书馆+”模式的实践及对基层图书馆建设的启示》发表于《教育现代化》2018年第27期（系统无）
A10: 6 | B10: 社会学院 | C10: 14D123 | D10: 邵华 | E10: 副教授 | G10: 41791 | H10: 5 | I10: 380 | J10: =_xlfn.IFNA(VLOOKUP(C10,[1]教师及实验!$C$5:$P$330,8,FALSE),"") -> 1 | K10: =_xlfn.IFNA(VLOOKUP(C10,[1]教师及实验!$C$5:$P$330,9,FALSE),"") -> 0 | L10: =_xlfn.IFNA(VLOOKUP(C10,[1]教师及实验!$C$5:$P$330,10,FALSE),"") -> 0 | M10: =_xlfn.IFNA(VLOOKUP(C10,[1]教师及实验!$C$5:$P$330,11,FALSE),"") -> 0 | N10: =_xlfn.IFNA(VLOOKUP(C10,[1]教师及实验!$C$5:$P$330,12,FALSE),"") -> 0 | O10: =_xlfn.IFNA(VLOOKUP(C10,[1]教师及实验!$C$5:$P$330,13,FALSE),"") -> 0 | P10: =_xlfn.IFNA(VLOOKUP(C10,[1]教师及实验!$C$5:$P$330,14,FALSE),"") -> 0
